BEGIN:VCALENDAR
VERSION:2.0
PRODID:-//Australian Dental Association - ECPv4.4.5//NONSGML v1.0//EN
CALSCALE:GREGORIAN
METHOD:PUBLISH
X-WR-CALNAME:Australian Dental Association
X-ORIGINAL-URL:http://adawa.com.au
X-WR-CALDESC:Events for Australian Dental Association
BEGIN:VEVENT
DTSTART;TZID=UTC+0:20190210T081500
DTEND;TZID=UTC+0:20190210T170000
DTSTAMP:20190226T043127
CREATED:20180725T075636Z
LAST-MODIFIED:20181114T061048Z
UID:11299-1549786500-1549818000@adawa.com.au
SUMMARY:FULLY BOOKED - Simple\, Sexy Posterior Composite Restorations
DESCRIPTION:Course Outline:\nThe replacement of posterior Class II amalgams has become the bread and butter of the modern dental practice. With the advent of modern bonding adhesives as well as bulk fill materials\, do we have clear guidelines on what to use? How to use it and when? Is there a compromise to speed? In this day and age\, patients are increasingly demanding about the aesthetics\, not only with anterior direct restorations\, but also posterior. Learn how to lift your game in posterior direct composite aesthetics and build your practice with techniques that are not only efficient\, but will extend the success and prognosis of your direct restorations.\nCourse Topics\n\n \tOcclusion\n \tOcclusal Design\n \tPosterior Layering Fundamentals\n \tGuided and unguided cusp reconstruction of complex direct restorations\n \tAesthetics\n \tAnatomy\n \tStaining techniques\n \tShading techniques\n \tFinishing and Polishing techniques\n \tAdvanced anatomy and maverick effects\n\nLearning Objectives\n\n \tReview the fundamentals in case assessment and suitability for layered posterior composite\n \tLearn how to recreate missing cusps efficiently in a controlled\, predictable fashion using a putty stent derived from a diagnostic wax-up/mock-up or pre-operative\n \tDiscover two techniques to incorporate maverick staining or tinting in the posterior region using Essentia\n \tLearn how to layer posterior Class I and II restorations to achieve minimal C-Factor influences and excellent chameleon\n \tLearn the fundamentals of “how to make a fissure look like a fissure”.\n\nPLEASE NOTE: If you attend both courses there will be a fee reduction of $450.00.\n\nCourse fee includes a take home a Hu-Friedy StyleSkulpt Kit valued at over $450.00.\n\n\n\n \n\nSponsored by\n\n\n\n 
URL:http://adawa.com.au/event/simple-sexy-posterior-composite-restorations/
LOCATION:17 Monash Ave\, Nedlands\, WA\, 6009\, Australia
GEO:-31.9700864;115.8156238
X-APPLE-STRUCTURED-LOCATION;VALUE=URI;X-ADDRESS=17 Monash Ave Nedlands WA 6009 Australia;X-APPLE-RADIUS=500;X-TITLE=17 Monash Ave:geo:115.8156238,-31.9700864
END:VEVENT
END:VCALENDAR