BEGIN:VCALENDAR
VERSION:2.0
PRODID:-//Australian Dental Association - ECPv4.4.5//NONSGML v1.0//EN
CALSCALE:GREGORIAN
METHOD:PUBLISH
X-WR-CALNAME:Australian Dental Association
X-ORIGINAL-URL:http://adawa.com.au
X-WR-CALDESC:Events for Australian Dental Association
BEGIN:VEVENT
DTSTART;TZID=UTC+0:20190227T181500
DTEND;TZID=UTC+0:20190227T213000
DTSTAMP:20190226T043204
CREATED:20190129T025912Z
LAST-MODIFIED:20190129T030014Z
UID:11671-1551291300-1551303000@adawa.com.au
SUMMARY:Minimally Invasive Dentistry (MID) for the Paediatric Patient
DESCRIPTION:Modern dentistry has evolved into a minimally invasive approach. This can be a challenge in the deciduous dentition. This presentation will outline the principles and philosophies of Minimally Invasive Dentistry (MID). A range of case studies will be used to illustrate the minimally invasive diagnostics and provide a greater understanding of microdentistry.\n\n \n\n
URL:http://adawa.com.au/event/minimally-invasive-dentistry-mid-for-the-paediatric-patient/
END:VEVENT
END:VCALENDAR